BEGIN:VCALENDAR
VERSION:2.0
PRODID:-//WASSERSPORT-VEREIN SCHIERSTEIN 1921 E.V. - ECPv6.15.20//NONSGML v1.0//EN
CALSCALE:GREGORIAN
METHOD:PUBLISH
X-WR-CALNAME:WASSERSPORT-VEREIN SCHIERSTEIN 1921 E.V.
X-ORIGINAL-URL:https://wvschierstein.de
X-WR-CALDESC:Veranstaltungen für WASSERSPORT-VEREIN SCHIERSTEIN 1921 E.V.
REFRESH-INTERVAL;VALUE=DURATION:PT1H
X-Robots-Tag:noindex
X-PUBLISHED-TTL:PT1H
BEGIN:VTIMEZONE
TZID:Europe/Berlin
BEGIN:DAYLIGHT
TZOFFSETFROM:+0100
TZOFFSETTO:+0200
TZNAME:CEST
DTSTART:20230326T010000
END:DAYLIGHT
BEGIN:STANDARD
TZOFFSETFROM:+0200
TZOFFSETTO:+0100
TZNAME:CET
DTSTART:20231029T010000
END:STANDARD
BEGIN:DAYLIGHT
TZOFFSETFROM:+0100
TZOFFSETTO:+0200
TZNAME:CEST
DTSTART:20240331T010000
END:DAYLIGHT
BEGIN:STANDARD
TZOFFSETFROM:+0200
TZOFFSETTO:+0100
TZNAME:CET
DTSTART:20241027T010000
END:STANDARD
BEGIN:DAYLIGHT
TZOFFSETFROM:+0100
TZOFFSETTO:+0200
TZNAME:CEST
DTSTART:20250330T010000
END:DAYLIGHT
BEGIN:STANDARD
TZOFFSETFROM:+0200
TZOFFSETTO:+0100
TZNAME:CET
DTSTART:20251026T010000
END:STANDARD
END:VTIMEZONE
BEGIN:VEVENT
DTSTART;TZID=Europe/Berlin:20240928T100000
DTEND;TZID=Europe/Berlin:20240928T170000
DTSTAMP:20260419T145200
CREATED:20240307T104945Z
LAST-MODIFIED:20240307T110045Z
UID:21849-1727517600-1727542800@wvschierstein.de
SUMMARY:DKV-Para-Kanu
DESCRIPTION:
URL:https://wvschierstein.de/event/dkv-para-kanu/
END:VEVENT
BEGIN:VEVENT
DTSTART;TZID=Europe/Berlin:20240928T140000
DTEND;TZID=Europe/Berlin:20240928T220000
DTSTAMP:20260419T145200
CREATED:20240121T112401Z
LAST-MODIFIED:20240121T112401Z
UID:21631-1727532000-1727560800@wvschierstein.de
SUMMARY:Abfahrt Motorboote Steg 1
DESCRIPTION:
URL:https://wvschierstein.de/event/abfahrt-motorboote-steg-1/
END:VEVENT
END:VCALENDAR