BEGIN:VCALENDAR
VERSION:2.0
PRODID:-//WASSERSPORT-VEREIN SCHIERSTEIN 1921 E.V. - ECPv6.15.20//NONSGML v1.0//EN
CALSCALE:GREGORIAN
METHOD:PUBLISH
X-ORIGINAL-URL:https://wvschierstein.de
X-WR-CALDESC:Veranstaltungen für WASSERSPORT-VEREIN SCHIERSTEIN 1921 E.V.
REFRESH-INTERVAL;VALUE=DURATION:PT1H
X-Robots-Tag:noindex
X-PUBLISHED-TTL:PT1H
BEGIN:VTIMEZONE
TZID:Europe/Berlin
BEGIN:DAYLIGHT
TZOFFSETFROM:+0100
TZOFFSETTO:+0200
TZNAME:CEST
DTSTART:20220327T010000
END:DAYLIGHT
BEGIN:STANDARD
TZOFFSETFROM:+0200
TZOFFSETTO:+0100
TZNAME:CET
DTSTART:20221030T010000
END:STANDARD
BEGIN:DAYLIGHT
TZOFFSETFROM:+0100
TZOFFSETTO:+0200
TZNAME:CEST
DTSTART:20230326T010000
END:DAYLIGHT
BEGIN:STANDARD
TZOFFSETFROM:+0200
TZOFFSETTO:+0100
TZNAME:CET
DTSTART:20231029T010000
END:STANDARD
BEGIN:DAYLIGHT
TZOFFSETFROM:+0100
TZOFFSETTO:+0200
TZNAME:CEST
DTSTART:20240331T010000
END:DAYLIGHT
BEGIN:STANDARD
TZOFFSETFROM:+0200
TZOFFSETTO:+0100
TZNAME:CET
DTSTART:20241027T010000
END:STANDARD
END:VTIMEZONE
BEGIN:VEVENT
DTSTART;VALUE=DATE:20230103
DTEND;VALUE=DATE:20230104
DTSTAMP:20260422T120503
CREATED:20221219T182550Z
LAST-MODIFIED:20221219T182550Z
UID:19163-1672704000-1672790399@wvschierstein.de
SUMMARY:WVS-Geschäftsstelle geschlossen
DESCRIPTION:
URL:https://wvschierstein.de/event/wvs-geschaeftsstelle-geschlossen-2/
END:VEVENT
END:VCALENDAR