BEGIN:VCALENDAR
VERSION:2.0
PRODID:-//WASSERSPORT-VEREIN SCHIERSTEIN 1921 E.V. - ECPv6.15.20//NONSGML v1.0//EN
CALSCALE:GREGORIAN
METHOD:PUBLISH
X-ORIGINAL-URL:https://wvschierstein.de
X-WR-CALDESC:Veranstaltungen für WASSERSPORT-VEREIN SCHIERSTEIN 1921 E.V.
REFRESH-INTERVAL;VALUE=DURATION:PT1H
X-Robots-Tag:noindex
X-PUBLISHED-TTL:PT1H
BEGIN:VTIMEZONE
TZID:Europe/Berlin
BEGIN:DAYLIGHT
TZOFFSETFROM:+0100
TZOFFSETTO:+0200
TZNAME:CEST
DTSTART:20220327T010000
END:DAYLIGHT
BEGIN:STANDARD
TZOFFSETFROM:+0200
TZOFFSETTO:+0100
TZNAME:CET
DTSTART:20221030T010000
END:STANDARD
BEGIN:DAYLIGHT
TZOFFSETFROM:+0100
TZOFFSETTO:+0200
TZNAME:CEST
DTSTART:20230326T010000
END:DAYLIGHT
BEGIN:STANDARD
TZOFFSETFROM:+0200
TZOFFSETTO:+0100
TZNAME:CET
DTSTART:20231029T010000
END:STANDARD
BEGIN:DAYLIGHT
TZOFFSETFROM:+0100
TZOFFSETTO:+0200
TZNAME:CEST
DTSTART:20240331T010000
END:DAYLIGHT
BEGIN:STANDARD
TZOFFSETFROM:+0200
TZOFFSETTO:+0100
TZNAME:CET
DTSTART:20241027T010000
END:STANDARD
END:VTIMEZONE
BEGIN:VEVENT
DTSTART;TZID=Europe/Berlin:20231007T100000
DTEND;TZID=Europe/Berlin:20231007T170000
DTSTAMP:20260420T045124
CREATED:20230322T183338Z
LAST-MODIFIED:20230322T183443Z
UID:19451-1696672800-1696698000@wvschierstein.de
SUMMARY:Single Hand SCR
DESCRIPTION:
URL:https://wvschierstein.de/event/single-hand-scr/
END:VEVENT
BEGIN:VEVENT
DTSTART;TZID=Europe/Berlin:20231014T100000
DTEND;TZID=Europe/Berlin:20231015T170000
DTSTAMP:20260420T045124
CREATED:20230322T183608Z
LAST-MODIFIED:20230322T183608Z
UID:19454-1697277600-1697389200@wvschierstein.de
SUMMARY:Vereinsmeisterschaft WVS
DESCRIPTION:
URL:https://wvschierstein.de/event/vereinsmeisterschaft-wvs/
END:VEVENT
BEGIN:VEVENT
DTSTART;TZID=Europe/Berlin:20231021T100000
DTEND;TZID=Europe/Berlin:20231021T170000
DTSTAMP:20260420T045124
CREATED:20230322T182329Z
LAST-MODIFIED:20230322T182329Z
UID:19446-1697882400-1697907600@wvschierstein.de
SUMMARY:Herbstputz WVS
DESCRIPTION:
URL:https://wvschierstein.de/event/herbstputz-wvs/
END:VEVENT
BEGIN:VEVENT
DTSTART;TZID=Europe/Berlin:20231022T100000
DTEND;TZID=Europe/Berlin:20231022T170000
DTSTAMP:20260420T045124
CREATED:20230322T181934Z
LAST-MODIFIED:20230322T181934Z
UID:19438-1697968800-1697994000@wvschierstein.de
SUMMARY:Herbstwanderung WVS
DESCRIPTION:
URL:https://wvschierstein.de/event/herbstwanderung-wvs/
END:VEVENT
END:VCALENDAR