BEGIN:VCALENDAR
VERSION:2.0
PRODID:-//WASSERSPORT-VEREIN SCHIERSTEIN 1921 E.V. - ECPv6.15.20//NONSGML v1.0//EN
CALSCALE:GREGORIAN
METHOD:PUBLISH
X-ORIGINAL-URL:https://wvschierstein.de
X-WR-CALDESC:Veranstaltungen für WASSERSPORT-VEREIN SCHIERSTEIN 1921 E.V.
REFRESH-INTERVAL;VALUE=DURATION:PT1H
X-Robots-Tag:noindex
X-PUBLISHED-TTL:PT1H
BEGIN:VTIMEZONE
TZID:Europe/Berlin
BEGIN:DAYLIGHT
TZOFFSETFROM:+0100
TZOFFSETTO:+0200
TZNAME:CEST
DTSTART:20230326T010000
END:DAYLIGHT
BEGIN:STANDARD
TZOFFSETFROM:+0200
TZOFFSETTO:+0100
TZNAME:CET
DTSTART:20231029T010000
END:STANDARD
BEGIN:DAYLIGHT
TZOFFSETFROM:+0100
TZOFFSETTO:+0200
TZNAME:CEST
DTSTART:20240331T010000
END:DAYLIGHT
BEGIN:STANDARD
TZOFFSETFROM:+0200
TZOFFSETTO:+0100
TZNAME:CET
DTSTART:20241027T010000
END:STANDARD
BEGIN:DAYLIGHT
TZOFFSETFROM:+0100
TZOFFSETTO:+0200
TZNAME:CEST
DTSTART:20250330T010000
END:DAYLIGHT
BEGIN:STANDARD
TZOFFSETFROM:+0200
TZOFFSETTO:+0100
TZNAME:CET
DTSTART:20251026T010000
END:STANDARD
END:VTIMEZONE
BEGIN:VEVENT
DTSTART;TZID=Europe/Berlin:20240501T110000
DTEND;TZID=Europe/Berlin:20240501T150000
DTSTAMP:20260419T191412
CREATED:20240308T082039Z
LAST-MODIFIED:20240308T082158Z
UID:21860-1714561200-1714575600@wvschierstein.de
SUMMARY:Saisoneröffnung\, Boots-Taufe\, "Tag der offenen Tür"
DESCRIPTION:
URL:https://wvschierstein.de/event/saisoneroeffnung-boots-taufe-tag-der-offenen-tuer/
END:VEVENT
BEGIN:VEVENT
DTSTART;TZID=Europe/Berlin:20240504T140000
DTEND;TZID=Europe/Berlin:20240504T220000
DTSTAMP:20260419T191412
CREATED:20240121T112314Z
LAST-MODIFIED:20240121T112314Z
UID:21629-1714831200-1714860000@wvschierstein.de
SUMMARY:Anfahrt Motorboote Steg 1
DESCRIPTION:
URL:https://wvschierstein.de/event/anfahrt-motorboote-steg-1/
END:VEVENT
BEGIN:VEVENT
DTSTART;TZID=Europe/Berlin:20240524T190000
DTEND;TZID=Europe/Berlin:20240524T210000
DTSTAMP:20260419T191412
CREATED:20240327T164849Z
LAST-MODIFIED:20240327T214927Z
UID:21950-1716577200-1716584400@wvschierstein.de
SUMMARY:Unterwegs im Eismeer mit der "Polarstern"
DESCRIPTION:Vor­trag
URL:https://wvschierstein.de/event/unterwegs-im-eismeer-mit-der-polarstern/
END:VEVENT
END:VCALENDAR